BEGIN:VCALENDAR
VERSION:2.0
PRODID:-//CCWBRA - ECPv6.15.20//NONSGML v1.0//EN
CALSCALE:GREGORIAN
METHOD:PUBLISH
X-WR-CALNAME:CCWBRA
X-ORIGINAL-URL:https://ccwbra.com
X-WR-CALDESC:Events for CCWBRA
REFRESH-INTERVAL;VALUE=DURATION:PT1H
X-Robots-Tag:noindex
X-PUBLISHED-TTL:PT1H
BEGIN:VTIMEZONE
TZID:America/New_York
BEGIN:DAYLIGHT
TZOFFSETFROM:-0500
TZOFFSETTO:-0400
TZNAME:EDT
DTSTART:20250309T070000
END:DAYLIGHT
BEGIN:STANDARD
TZOFFSETFROM:-0400
TZOFFSETTO:-0500
TZNAME:EST
DTSTART:20251102T060000
END:STANDARD
BEGIN:DAYLIGHT
TZOFFSETFROM:-0500
TZOFFSETTO:-0400
TZNAME:EDT
DTSTART:20260308T070000
END:DAYLIGHT
BEGIN:STANDARD
TZOFFSETFROM:-0400
TZOFFSETTO:-0500
TZNAME:EST
DTSTART:20261101T060000
END:STANDARD
BEGIN:DAYLIGHT
TZOFFSETFROM:-0500
TZOFFSETTO:-0400
TZNAME:EDT
DTSTART:20270314T070000
END:DAYLIGHT
BEGIN:STANDARD
TZOFFSETFROM:-0400
TZOFFSETTO:-0500
TZNAME:EST
DTSTART:20271107T060000
END:STANDARD
END:VTIMEZONE
BEGIN:VEVENT
DTSTART;TZID=America/New_York:20260425T000000
DTEND;TZID=America/New_York:20260425T235959
DTSTAMP:20260423T075107
CREATED:20260204T161344Z
LAST-MODIFIED:20260407T232624Z
UID:18303-1777075200-1777161599@ccwbra.com
SUMMARY:NNSPS Boat Show
DESCRIPTION:
URL:https://ccwbra.com/event/nnsps-boat-show/
LOCATION:Kilmarnock\, VA\, Chesapeake Commons Shopping Center\, kilmarnock\, va\, 22482
CATEGORIES:Boat Show
ORGANIZER;CN="Art Gilbert":MAILTO:AdGilbert64@gmail.com
END:VEVENT
BEGIN:VEVENT
DTSTART;TZID=America/New_York:20260509T080000
DTEND;TZID=America/New_York:20260509T170000
DTSTAMP:20260423T075107
CREATED:20260204T161534Z
LAST-MODIFIED:20260418T054231Z
UID:18309-1778313600-1778346000@ccwbra.com
SUMMARY:Tidewater Cup
DESCRIPTION:We are excited to announce the return of Cocktail Class racing to the Northern Neck of Virginia!  Experience the thrill of the Tidewater Cup as Cocktail boats speed along Carter’s Creek at The Tides Inn\, our event host in Irvington\, Virginia.  Weekend guests of the Inn will be among the spectators watching the action of this inaugural Tidewater Cup.  More details to follow.  In the meantime\, check out related event information on the Tides Inn website \n\n\n\n\n\n\n\n\n\n2026 Tidewater Cup NORDownload\n\n\n\n\n\n\n\n\n\n\n\n\n\n\n\n\n\n\n\n/
URL:https://ccwbra.com/event/tidewater-cup/
LOCATION:The Tides Inn\, 480 King Carter Dr\, Irvington\, VA\, 22480\, United States
CATEGORIES:Regatta
ATTACH;FMTTYPE=image/webp:https://ccwbra.com/wp-content/uploads/2026/04/TidewaterCup.webp
ORGANIZER;CN="Art Gilbert":MAILTO:AdGilbert64@gmail.com
END:VEVENT
BEGIN:VEVENT
DTSTART;TZID=America/New_York:20260606T120000
DTEND;TZID=America/New_York:20260606T120000
DTSTAMP:20260423T075107
CREATED:20260409T210742Z
LAST-MODIFIED:20260409T212216Z
UID:18780-1780747200-1780747200@ccwbra.com
SUMMARY:Camp David Cup
DESCRIPTION:
URL:https://ccwbra.com/event/camp-david-cup/
LOCATION:Kennedyville\, MD\, 29329 Glencoe Rd\, Kennedyville\, Maryland\, 21645
CATEGORIES:Regatta
ATTACH;FMTTYPE=image/jpeg:https://ccwbra.com/wp-content/uploads/2026/04/CampDavidAll.jpg
END:VEVENT
BEGIN:VEVENT
DTSTART;TZID=America/New_York:20260620T000000
DTEND;TZID=America/New_York:20260620T235959
DTSTAMP:20260423T075107
CREATED:20260409T213528Z
LAST-MODIFIED:20260409T213530Z
UID:18789-1781913600-1781999999@ccwbra.com
SUMMARY:Kent Island Regatta
DESCRIPTION:
URL:https://ccwbra.com/event/kent-island-regatta/
LOCATION:Kent Island Yacht Club\, 117 Yacht Club Dr\, Kent Narrows\, MD 21619\, Kent Narrows\, MD\, Maryland\, 21619\, United States
ORGANIZER;CN="Keith Carew":MAILTO:Keith@Carews.com
END:VEVENT
BEGIN:VEVENT
DTSTART;TZID=America/New_York:20260725T000000
DTEND;TZID=America/New_York:20260725T235959
DTSTAMP:20260423T075107
CREATED:20260409T214507Z
LAST-MODIFIED:20260409T214652Z
UID:18795-1784937600-1785023999@ccwbra.com
SUMMARY:Commodore's Cup
DESCRIPTION:
URL:https://ccwbra.com/event/commodores-cup/
LOCATION:Maryland Yacht Club\, 1500 Fairview Beach Road\, Pasadena\, Maryland\, 21122\, United States
CATEGORIES:Regatta
ORGANIZER;CN="Keith Carew":MAILTO:Keith@Carews.com
END:VEVENT
BEGIN:VEVENT
DTSTART;TZID=America/New_York:20260801T000000
DTEND;TZID=America/New_York:20260801T235959
DTSTAMP:20260423T075107
CREATED:20260409T215651Z
LAST-MODIFIED:20260409T215654Z
UID:18799-1785542400-1785628799@ccwbra.com
SUMMARY:Mystic River Race
DESCRIPTION:
URL:https://ccwbra.com/event/mystic-river-race/
LOCATION:Mystic Seaport Museum\, 75 Greenmanville Ave\, Mystic\, Connecticut\, 06355\, United States
CATEGORIES:Regatta
ORGANIZER;CN="Jim Schmicker":MAILTO:JimSchmicker@gmail.com
END:VEVENT
BEGIN:VEVENT
DTSTART;TZID=America/New_York:20260822T000000
DTEND;TZID=America/New_York:20260822T235959
DTSTAMP:20260423T075107
CREATED:20260409T222532Z
LAST-MODIFIED:20260409T222655Z
UID:18805-1787356800-1787443199@ccwbra.com
SUMMARY:National Championship
DESCRIPTION:
URL:https://ccwbra.com/event/national-championship/
LOCATION:Rock Hall Yacht Club\, 22759 McKinleyville Road\, Rock Hall\, Maryland\, 21661\, United States
CATEGORIES:Regatta
ORGANIZER;CN="Peter Urbani":MAILTO:Peter@PeterUrbani.com
END:VEVENT
BEGIN:VEVENT
DTSTART;TZID=America/New_York:20260919T000000
DTEND;TZID=America/New_York:20260919T235959
DTSTAMP:20260423T075107
CREATED:20260409T224137Z
LAST-MODIFIED:20260409T224141Z
UID:18812-1789776000-1789862399@ccwbra.com
SUMMARY:Saranac Lake Cocktail Classic
DESCRIPTION:In the heart of the Adirondacks\, Saranac Lake is a small community known as the Green Side of the Big Apple. Saranac Lake has a long history of racing and outdoor competitive events from Inboard boat racing in the 1920’s and 30’s\, Guideboat and Canoe racing annually since the 1960’s\, Hydroplane and Bathtub racing in the 70’s\, and so on. The organizers and community are looking forward to adding Cocktail Class racing to the list of fun things to do and see here. \n\n\n\nAt our inaugural event on Lake Flower in downtown Saranac Lake\, we are hoping to have you all join us for a fun weekend. On race day there will be a farmers’ market in the park next to the race site and the Antique Outboard Motor Club will be joining us with a display in the pit area. We are still in the planning stages and will have more details as the summer progresses. Drop us a note if you have comments\, questions or ideas that would make this on your list of races not to miss. We can be reached by email at greensideny@gmail.com
URL:https://ccwbra.com/event/saranac-lake-cocktail-classic/
LOCATION:Lake Flower\, Route 86 \, NY 12983\, Saranac Lake\, New York\, 12983\, United States
CATEGORIES:Regatta
END:VEVENT
BEGIN:VEVENT
DTSTART;TZID=America/New_York:20261002T080000
DTEND;TZID=America/New_York:20261004T170000
DTSTAMP:20260423T075107
CREATED:20260409T224611Z
LAST-MODIFIED:20260409T224613Z
UID:18816-1790928000-1791133200@ccwbra.com
SUMMARY:MidAtlantic Small Craft Festival
DESCRIPTION:
URL:https://ccwbra.com/event/midatlantic-small-craft-festival/
LOCATION:Chesapeake Bay Maritime Museum\, 213 North Talbot Street\, St. Michaels\, Maryland\, 21663\, United States
END:VEVENT
BEGIN:VEVENT
DTSTART;TZID=America/New_York:20261030T080000
DTEND;TZID=America/New_York:20261101T170000
DTSTAMP:20260423T075107
CREATED:20260409T225147Z
LAST-MODIFIED:20260414T150154Z
UID:18820-1793347200-1793552400@ccwbra.com
SUMMARY:Downrigging Weekend
DESCRIPTION:Sultana Downrigging – Tall Ships & Bluegrass
URL:https://ccwbra.com/event/downrigging-weekend/
LOCATION:Chestertown\, Chestertown\, Maryland\, 21620\, United States
END:VEVENT
END:VCALENDAR